BEGIN:VCALENDAR
VERSION:2.0
PRODID:-//Christa Elmer - ECPv6.0.1.1//NONSGML v1.0//EN
CALSCALE:GREGORIAN
METHOD:PUBLISH
X-WR-CALNAME:Christa Elmer
X-ORIGINAL-URL:https://christaelmer.com
X-WR-CALDESC:Events for Christa Elmer
REFRESH-INTERVAL;VALUE=DURATION:PT1H
X-Robots-Tag:noindex
X-PUBLISHED-TTL:PT1H
BEGIN:VTIMEZONE
TZID:UTC
BEGIN:STANDARD
TZOFFSETFROM:+0000
TZOFFSETTO:+0000
TZNAME:UTC
DTSTART:20230101T000000
END:STANDARD
END:VTIMEZONE
BEGIN:VEVENT
DTSTART;TZID=UTC:20231215T190000
DTEND;TZID=UTC:20231215T203000
DTSTAMP:20260420T141842
CREATED:20231107T125746Z
LAST-MODIFIED:20231107T125746Z
UID:4182-1702666800-1702672200@christaelmer.com
SUMMARY:Swingbeats - Christa Elmer Swing Quintet at X-mas Market Pto Portals
DESCRIPTION:
URL:https://christaelmer.com/event/swingbeats-christa-elmer-swing-quintet-at-x-mas-market-pto-portals/
LOCATION:X-mas Market Puerto Portals\, Puerto Portals\, Puerto Portals\, Baleares\, 07181\, Spain
ATTACH;FMTTYPE=image/jpeg:https://christaelmer.com/wp-content/uploads/2019/10/DSC_0839.jpg
END:VEVENT
END:VCALENDAR