BEGIN:VCALENDAR
VERSION:2.0
PRODID:-//Christa Elmer - ECPv6.0.1.1//NONSGML v1.0//EN
CALSCALE:GREGORIAN
METHOD:PUBLISH
X-ORIGINAL-URL:https://christaelmer.com
X-WR-CALDESC:Events for Christa Elmer
REFRESH-INTERVAL;VALUE=DURATION:PT1H
X-Robots-Tag:noindex
X-PUBLISHED-TTL:PT1H
BEGIN:VTIMEZONE
TZID:UTC
BEGIN:STANDARD
TZOFFSETFROM:+0000
TZOFFSETTO:+0000
TZNAME:UTC
DTSTART:20240101T000000
END:STANDARD
END:VTIMEZONE
BEGIN:VEVENT
DTSTART;TZID=UTC:20240308T190000
DTEND;TZID=UTC:20240308T203000
DTSTAMP:20260422T152538
CREATED:20231228T172653Z
LAST-MODIFIED:20231228T172653Z
UID:4466-1709924400-1709929800@christaelmer.com
SUMMARY:Art Expo intern. day of woman  christART
DESCRIPTION:
URL:https://christaelmer.com/event/art-expo-intern-day-of-woman-christart/
LOCATION:Anchor Bar\, Cami de Genova a Sant Augusti 49b\, Palma\, Baleares\, 07015\, Spain
END:VEVENT
BEGIN:VEVENT
DTSTART;TZID=UTC:20240308T210000
DTEND;TZID=UTC:20240308T230000
DTSTAMP:20260422T152538
CREATED:20231228T172552Z
LAST-MODIFIED:20231228T172552Z
UID:4463-1709931600-1709938800@christaelmer.com
SUMMARY:Chicken Sisters
DESCRIPTION:
URL:https://christaelmer.com/event/chicken-sisters-53/
LOCATION:Anchor Bar\, Cami de Genova a Sant Augusti 49b\, Palma\, Baleares\, 07015\, Spain
END:VEVENT
END:VCALENDAR