BEGIN:VCALENDAR
VERSION:2.0
PRODID:-//Christa Elmer - ECPv6.0.1.1//NONSGML v1.0//EN
CALSCALE:GREGORIAN
METHOD:PUBLISH
X-ORIGINAL-URL:https://christaelmer.com
X-WR-CALDESC:Events for Christa Elmer
REFRESH-INTERVAL;VALUE=DURATION:PT1H
X-Robots-Tag:noindex
X-PUBLISHED-TTL:PT1H
BEGIN:VTIMEZONE
TZID:UTC
BEGIN:STANDARD
TZOFFSETFROM:+0000
TZOFFSETTO:+0000
TZNAME:UTC
DTSTART:20240101T000000
END:STANDARD
END:VTIMEZONE
BEGIN:VEVENT
DTSTART;TZID=UTC:20240324T120000
DTEND;TZID=UTC:20240324T133000
DTSTAMP:20260424T093806
CREATED:20240205T211623Z
LAST-MODIFIED:20240228T172846Z
UID:4509-1711281600-1711287000@christaelmer.com
SUMMARY:Swingbeats
DESCRIPTION:
URL:https://christaelmer.com/event/swingbeats-3/
LOCATION:Plaza Columna\, Plaza Columna\, Palma\, Baleares\, 07007\, Spain
ATTACH;FMTTYPE=image/jpeg:https://christaelmer.com/wp-content/uploads/2024/02/Swingbeats.jpg
END:VEVENT
END:VCALENDAR