BEGIN:VCALENDAR
VERSION:2.0
PRODID:-//Christa Elmer - ECPv6.0.1.1//NONSGML v1.0//EN
CALSCALE:GREGORIAN
METHOD:PUBLISH
X-WR-CALNAME:Christa Elmer
X-ORIGINAL-URL:https://christaelmer.com
X-WR-CALDESC:Events for Christa Elmer
REFRESH-INTERVAL;VALUE=DURATION:PT1H
X-Robots-Tag:noindex
X-PUBLISHED-TTL:PT1H
BEGIN:VTIMEZONE
TZID:UTC
BEGIN:STANDARD
TZOFFSETFROM:+0000
TZOFFSETTO:+0000
TZNAME:UTC
DTSTART:20250101T000000
END:STANDARD
END:VTIMEZONE
BEGIN:VEVENT
DTSTART;TZID=UTC:20250405T180000
DTEND;TZID=UTC:20250405T193000
DTSTAMP:20260423T084443
CREATED:20250310T105604Z
LAST-MODIFIED:20250310T105604Z
UID:5148-1743876000-1743881400@christaelmer.com
SUMMARY:monthly Streetjazz Session - Swingbeats
DESCRIPTION:
URL:https://christaelmer.com/event/monthly-streetjazz-session-swingbeats-4/
LOCATION:Anfiteatro Deia\, Deia\, Baleares\, 07179\, Spain
ATTACH;FMTTYPE=image/jpeg:https://christaelmer.com/wp-content/uploads/2025/03/IMG_1901.jpg
END:VEVENT
END:VCALENDAR