BEGIN:VCALENDAR
VERSION:2.0
PRODID:-//Christa Elmer - ECPv6.0.1.1//NONSGML v1.0//EN
CALSCALE:GREGORIAN
METHOD:PUBLISH
X-ORIGINAL-URL:https://christaelmer.com
X-WR-CALDESC:Events for Christa Elmer
REFRESH-INTERVAL;VALUE=DURATION:PT1H
X-Robots-Tag:noindex
X-PUBLISHED-TTL:PT1H
BEGIN:VTIMEZONE
TZID:UTC
BEGIN:STANDARD
TZOFFSETFROM:+0000
TZOFFSETTO:+0000
TZNAME:UTC
DTSTART:20250101T000000
END:STANDARD
END:VTIMEZONE
BEGIN:VEVENT
DTSTART;TZID=UTC:20250520T190000
DTEND;TZID=UTC:20250520T210000
DTSTAMP:20260421T162145
CREATED:20250505T180027Z
LAST-MODIFIED:20250505T180027Z
UID:5289-1747767600-1747774800@christaelmer.com
SUMMARY:Winetasting - Sunset and Jazz
DESCRIPTION:
URL:https://christaelmer.com/event/winetasting-sunset-and-jazz/
LOCATION:Bodega Conde de Suyrot\, Carretera de Betlem km 6\, Colonia de Sant Pere\, Baleares\, 07579
ATTACH;FMTTYPE=image/jpeg:https://christaelmer.com/wp-content/uploads/2024/05/IMG-20240418-WA0001.jpg
END:VEVENT
END:VCALENDAR