BEGIN:VCALENDAR
VERSION:2.0
PRODID:-//Christa Elmer - ECPv6.0.1.1//NONSGML v1.0//EN
CALSCALE:GREGORIAN
METHOD:PUBLISH
X-WR-CALNAME:Christa Elmer
X-ORIGINAL-URL:https://christaelmer.com
X-WR-CALDESC:Events for Christa Elmer
REFRESH-INTERVAL;VALUE=DURATION:PT1H
X-Robots-Tag:noindex
X-PUBLISHED-TTL:PT1H
BEGIN:VTIMEZONE
TZID:UTC
BEGIN:STANDARD
TZOFFSETFROM:+0000
TZOFFSETTO:+0000
TZNAME:UTC
DTSTART:20250101T000000
END:STANDARD
END:VTIMEZONE
BEGIN:VEVENT
DTSTART;TZID=UTC:20250530T193000
DTEND;TZID=UTC:20250530T213000
DTSTAMP:20260421T095659
CREATED:20250520T104825Z
LAST-MODIFIED:20250527T140652Z
UID:5309-1748633400-1748640600@christaelmer.com
SUMMARY:Soul Duo
DESCRIPTION:
URL:https://christaelmer.com/event/soul-duo-3/
LOCATION:Sa Taverna des Port d’Alcudia\, Puerto Deportivo\, Port d'Alcudia\, Baleares\, 07400\, Spain
ATTACH;FMTTYPE=image/jpeg:https://christaelmer.com/wp-content/uploads/2025/05/IMG-20250526-WA0054.jpg
END:VEVENT
END:VCALENDAR