BEGIN:VCALENDAR
VERSION:2.0
PRODID:-//Christa Elmer - ECPv6.0.1.1//NONSGML v1.0//EN
CALSCALE:GREGORIAN
METHOD:PUBLISH
X-WR-CALNAME:Christa Elmer
X-ORIGINAL-URL:https://christaelmer.com
X-WR-CALDESC:Events for Christa Elmer
REFRESH-INTERVAL;VALUE=DURATION:PT1H
X-Robots-Tag:noindex
X-PUBLISHED-TTL:PT1H
BEGIN:VTIMEZONE
TZID:UTC
BEGIN:STANDARD
TZOFFSETFROM:+0000
TZOFFSETTO:+0000
TZNAME:UTC
DTSTART:20210101T000000
END:STANDARD
END:VTIMEZONE
BEGIN:VEVENT
DTSTART;TZID=UTC:20211105T200000
DTEND;TZID=UTC:20211105T220000
DTSTAMP:20260424T101327
CREATED:20211101T174858Z
LAST-MODIFIED:20211101T174858Z
UID:3171-1636142400-1636149600@christaelmer.com
SUMMARY:HAPPY CATS
DESCRIPTION:
URL:https://christaelmer.com/event/happy-cats-4/
LOCATION:Café Soller\, Plaza de sa Constitucio 13\, Soller\, Baleares\, 07100
ATTACH;FMTTYPE=image/jpeg:https://christaelmer.com/wp-content/uploads/2021/08/Happy_Cats_Photos_1.jpg
END:VEVENT
BEGIN:VEVENT
DTSTART;TZID=UTC:20211112T200000
DTEND;TZID=UTC:20211112T220000
DTSTAMP:20260424T101327
CREATED:20211106T123241Z
LAST-MODIFIED:20211106T123241Z
UID:3175-1636747200-1636754400@christaelmer.com
SUMMARY:Happy Cats
DESCRIPTION:
URL:https://christaelmer.com/event/happy-cats-5/
LOCATION:Café Soller\, Plaza de sa Constitucio 13\, Soller\, Baleares\, 07100
ATTACH;FMTTYPE=image/jpeg:https://christaelmer.com/wp-content/uploads/2021/08/Happy_Cats_Photos_1.jpg
END:VEVENT
BEGIN:VEVENT
DTSTART;TZID=UTC:20211119T200000
DTEND;TZID=UTC:20211119T220000
DTSTAMP:20260424T101327
CREATED:20211106T123418Z
LAST-MODIFIED:20211106T123418Z
UID:3177-1637352000-1637359200@christaelmer.com
SUMMARY:The Monkey Swingers
DESCRIPTION:
URL:https://christaelmer.com/event/the-monkey-swingers-67/
LOCATION:Café Soller\, Plaza de sa Constitucio 13\, Soller\, Baleares\, 07100
ATTACH;FMTTYPE=image/jpeg:https://christaelmer.com/wp-content/uploads/2015/11/monkey_swingers_s.jpg
END:VEVENT
BEGIN:VEVENT
DTSTART;TZID=UTC:20211125T200000
DTEND;TZID=UTC:20211125T210000
DTSTAMP:20260424T101327
CREATED:20211109T151738Z
LAST-MODIFIED:20211109T151738Z
UID:3188-1637870400-1637874000@christaelmer.com
SUMMARY:X-mas concert Happy Cats
DESCRIPTION:entry 20€
URL:https://christaelmer.com/event/x-mas-concert-happy-cats/
LOCATION:Capella de les Escolapies\, Carrer de Batac 25\, Soller\, Baleares\, 07100\, Spain
END:VEVENT
BEGIN:VEVENT
DTSTART;TZID=UTC:20211126T200000
DTEND;TZID=UTC:20211126T220000
DTSTAMP:20260424T101327
CREATED:20211106T123517Z
LAST-MODIFIED:20211106T123517Z
UID:3179-1637956800-1637964000@christaelmer.com
SUMMARY:Happy Cats
DESCRIPTION:
URL:https://christaelmer.com/event/happy-cats-6/
LOCATION:Café Soller\, Plaza de sa Constitucio 13\, Soller\, Baleares\, 07100
ATTACH;FMTTYPE=image/jpeg:https://christaelmer.com/wp-content/uploads/2021/08/Happy_Cats_Photos_1.jpg
END:VEVENT
END:VCALENDAR