BEGIN:VCALENDAR
VERSION:2.0
PRODID:-//Christa Elmer - ECPv6.0.1.1//NONSGML v1.0//EN
CALSCALE:GREGORIAN
METHOD:PUBLISH
X-ORIGINAL-URL:https://christaelmer.com
X-WR-CALDESC:Events for Christa Elmer
REFRESH-INTERVAL;VALUE=DURATION:PT1H
X-Robots-Tag:noindex
X-PUBLISHED-TTL:PT1H
BEGIN:VTIMEZONE
TZID:UTC
BEGIN:STANDARD
TZOFFSETFROM:+0000
TZOFFSETTO:+0000
TZNAME:UTC
DTSTART:20210101T000000
END:STANDARD
END:VTIMEZONE
BEGIN:VEVENT
DTSTART;TZID=UTC:20211203T200000
DTEND;TZID=UTC:20211203T220000
DTSTAMP:20260422T170743
CREATED:20211106T123612Z
LAST-MODIFIED:20211106T123612Z
UID:3181-1638561600-1638568800@christaelmer.com
SUMMARY:Chicken Sisters
DESCRIPTION:
URL:https://christaelmer.com/event/chicken-sisters-15/
LOCATION:Café Soller\, Plaza de sa Constitucio 13\, Soller\, Baleares\, 07100
END:VEVENT
BEGIN:VEVENT
DTSTART;TZID=UTC:20211210T200000
DTEND;TZID=UTC:20211210T220000
DTSTAMP:20260422T170743
CREATED:20211106T123703Z
LAST-MODIFIED:20211127T185527Z
UID:3183-1639166400-1639173600@christaelmer.com
SUMMARY:Chicken Sisters
DESCRIPTION:
URL:https://christaelmer.com/event/happy-cats-7/
LOCATION:Café Soller\, Plaza de sa Constitucio 13\, Soller\, Baleares\, 07100
END:VEVENT
BEGIN:VEVENT
DTSTART;TZID=UTC:20211217T200000
DTEND;TZID=UTC:20211217T220000
DTSTAMP:20260422T170743
CREATED:20211127T185408Z
LAST-MODIFIED:20211127T185408Z
UID:3195-1639771200-1639778400@christaelmer.com
SUMMARY:Happy Cats
DESCRIPTION:
URL:https://christaelmer.com/event/happy-cats-8/
LOCATION:Café Soller\, Plaza de sa Constitucio 13\, Soller\, Baleares\, 07100
ATTACH;FMTTYPE=image/jpeg:https://christaelmer.com/wp-content/uploads/2021/08/Happy_Cats_Photos.jpg
END:VEVENT
END:VCALENDAR