BEGIN:VCALENDAR
VERSION:2.0
PRODID:-//Christa Elmer - ECPv6.0.1.1//NONSGML v1.0//EN
CALSCALE:GREGORIAN
METHOD:PUBLISH
X-WR-CALNAME:Christa Elmer
X-ORIGINAL-URL:https://christaelmer.com
X-WR-CALDESC:Events for Christa Elmer
REFRESH-INTERVAL;VALUE=DURATION:PT1H
X-Robots-Tag:noindex
X-PUBLISHED-TTL:PT1H
BEGIN:VTIMEZONE
TZID:UTC
BEGIN:STANDARD
TZOFFSETFROM:+0000
TZOFFSETTO:+0000
TZNAME:UTC
DTSTART:20220101T000000
END:STANDARD
END:VTIMEZONE
BEGIN:VEVENT
DTSTART;TZID=UTC:20220210T190000
DTEND;TZID=UTC:20220210T210000
DTSTAMP:20260422T090841
CREATED:20220131T215448Z
LAST-MODIFIED:20220131T215448Z
UID:3214-1644519600-1644526800@christaelmer.com
SUMMARY:Christa rock's Cala del Sol en Cala de Mallorca
DESCRIPTION:
URL:https://christaelmer.com/event/christa-rocks-cala-del-sol-en-cala-de-mallorca/
LOCATION:Cala del Sol\, Carrer de Cala Romeguera 190\, Cales de Mallorca\, Baleares\, 07689\, Spain
ATTACH;FMTTYPE=image/jpeg:https://christaelmer.com/wp-content/uploads/2021/08/Christa-humo-2-4920.jpg
END:VEVENT
BEGIN:VEVENT
DTSTART;TZID=UTC:20220211T200000
DTEND;TZID=UTC:20220211T220000
DTSTAMP:20260422T090841
CREATED:20220131T155946Z
LAST-MODIFIED:20220131T201858Z
UID:3208-1644609600-1644616800@christaelmer.com
SUMMARY:The Monkey Swingers
DESCRIPTION:
URL:https://christaelmer.com/event/happy-cats-10/
LOCATION:Café Soller\, Plaza de sa Constitucio 13\, Soller\, Baleares\, 07100
ATTACH;FMTTYPE=image/jpeg:https://christaelmer.com/wp-content/uploads/2022/01/21-DSC_9768.jpg
END:VEVENT
BEGIN:VEVENT
DTSTART;TZID=UTC:20220212T220000
DTEND;TZID=UTC:20220212T233000
DTSTAMP:20260422T090841
CREATED:20220131T222140Z
LAST-MODIFIED:20220131T222140Z
UID:3217-1644703200-1644708600@christaelmer.com
SUMMARY:Happy Cats
DESCRIPTION:
URL:https://christaelmer.com/event/happy-cats-11/
LOCATION:Bar Zeppelin\, Carrer Galío 13\, Magaluf\, Baleares\, 07181\, Spain
ATTACH;FMTTYPE=image/jpeg:https://christaelmer.com/wp-content/uploads/2021/08/Happy_Cats_Photos_2.jpg
END:VEVENT
BEGIN:VEVENT
DTSTART;TZID=UTC:20220213T200000
DTEND;TZID=UTC:20220213T220000
DTSTAMP:20260422T090841
CREATED:20220111T173137Z
LAST-MODIFIED:20220111T173137Z
UID:3204-1644782400-1644789600@christaelmer.com
SUMMARY:Happy Cats
DESCRIPTION:
URL:https://christaelmer.com/event/happy-cats-9/
LOCATION:Cats Music\, Battle Gabriel Mesquida s/n\, Santa Maria\, Baleares\, 07320\, Spain
ATTACH;FMTTYPE=image/jpeg:https://christaelmer.com/wp-content/uploads/2021/08/Happy_Cats_Photos.jpg
END:VEVENT
END:VCALENDAR