BEGIN:VCALENDAR
VERSION:2.0
PRODID:-//Christa Elmer - ECPv6.0.1.1//NONSGML v1.0//EN
CALSCALE:GREGORIAN
METHOD:PUBLISH
X-WR-CALNAME:Christa Elmer
X-ORIGINAL-URL:https://christaelmer.com
X-WR-CALDESC:Events for Christa Elmer
REFRESH-INTERVAL;VALUE=DURATION:PT1H
X-Robots-Tag:noindex
X-PUBLISHED-TTL:PT1H
BEGIN:VTIMEZONE
TZID:UTC
BEGIN:STANDARD
TZOFFSETFROM:+0000
TZOFFSETTO:+0000
TZNAME:UTC
DTSTART:20220101T000000
END:STANDARD
END:VTIMEZONE
BEGIN:VEVENT
DTSTART;TZID=UTC:20220304T200000
DTEND;TZID=UTC:20220304T220000
DTSTAMP:20260420T164349
CREATED:20220228T125119Z
LAST-MODIFIED:20220228T125119Z
UID:3227-1646424000-1646431200@christaelmer.com
SUMMARY:Happy Cats
DESCRIPTION:
URL:https://christaelmer.com/event/happy-cats-13/
LOCATION:Café Soller\, Plaza de sa Constitucio 13\, Soller\, Baleares\, 07100
ATTACH;FMTTYPE=image/jpeg:https://christaelmer.com/wp-content/uploads/2021/08/Happy_Cats_Photos.jpg
END:VEVENT
BEGIN:VEVENT
DTSTART;TZID=UTC:20220319T193000
DTEND;TZID=UTC:20220319T213000
DTSTAMP:20260420T164349
CREATED:20220228T125252Z
LAST-MODIFIED:20220228T125252Z
UID:3229-1647718200-1647725400@christaelmer.com
SUMMARY:Christa's Show
DESCRIPTION:
URL:https://christaelmer.com/event/christas-show-9/
LOCATION:Cala del Sol\, Carrer de Cala Romeguera 190\, Cales de Mallorca\, Baleares\, 07689\, Spain
ATTACH;FMTTYPE=image/jpeg:https://christaelmer.com/wp-content/uploads/2021/08/Christa-humo-2-4920.jpg
END:VEVENT
BEGIN:VEVENT
DTSTART;TZID=UTC:20220325T200000
DTEND;TZID=UTC:20220325T220000
DTSTAMP:20260420T164349
CREATED:20220228T124943Z
LAST-MODIFIED:20220314T213718Z
UID:3225-1648238400-1648245600@christaelmer.com
SUMMARY:Happy Cats
DESCRIPTION:
URL:https://christaelmer.com/event/happy-cats-12/
LOCATION:Café Soller\, Plaza de sa Constitucio 13\, Soller\, Baleares\, 07100
ATTACH;FMTTYPE=image/jpeg:https://christaelmer.com/wp-content/uploads/2021/08/Happy_Cats_Photos.jpg
END:VEVENT
END:VCALENDAR