BEGIN:VCALENDAR
VERSION:2.0
PRODID:-//Christa Elmer - ECPv6.0.1.1//NONSGML v1.0//EN
CALSCALE:GREGORIAN
METHOD:PUBLISH
X-ORIGINAL-URL:https://christaelmer.com
X-WR-CALDESC:Events for Christa Elmer
REFRESH-INTERVAL;VALUE=DURATION:PT1H
X-Robots-Tag:noindex
X-PUBLISHED-TTL:PT1H
BEGIN:VTIMEZONE
TZID:UTC
BEGIN:STANDARD
TZOFFSETFROM:+0000
TZOFFSETTO:+0000
TZNAME:UTC
DTSTART:20220101T000000
END:STANDARD
END:VTIMEZONE
BEGIN:VEVENT
DTSTART;TZID=UTC:20220502T203000
DTEND;TZID=UTC:20220502T223000
DTSTAMP:20260420T125656
CREATED:20220413T090950Z
LAST-MODIFIED:20220413T090950Z
UID:3270-1651523400-1651530600@christaelmer.com
SUMMARY:Chicken Sisters
DESCRIPTION:
URL:https://christaelmer.com/event/chicken-sisters-18/
LOCATION:Waikiki Surf Bar Paguera\, Carrer Platje 70\, Paguera\, Baleares\, 07160
END:VEVENT
BEGIN:VEVENT
DTSTART;TZID=UTC:20220508T210000
DTEND;TZID=UTC:20220508T223000
DTSTAMP:20260420T125656
CREATED:20220413T091521Z
LAST-MODIFIED:20220413T091521Z
UID:3282-1652043600-1652049000@christaelmer.com
SUMMARY:The Monkey Swingers
DESCRIPTION:
URL:https://christaelmer.com/event/the-monkey-swingers-69/
LOCATION:Secrets Mallorca Villamil Resort & Spa\, Bulevar de Paguera 66\, Paguera\, Baleares\, 07160\, Spain
ATTACH;FMTTYPE=image/jpeg:https://christaelmer.com/wp-content/uploads/2022/01/21-DSC_9768.jpg
END:VEVENT
BEGIN:VEVENT
DTSTART;TZID=UTC:20220509T213000
DTEND;TZID=UTC:20220509T233000
DTSTAMP:20260420T125656
CREATED:20220413T091047Z
LAST-MODIFIED:20220504T132534Z
UID:3272-1652131800-1652139000@christaelmer.com
SUMMARY:Chicken Sisters
DESCRIPTION:
URL:https://christaelmer.com/event/chicken-sisters-19/
LOCATION:Bei Hermine Paguera\, Carrer Eucaliptus 12\, Paguera\, Baleares\, 07160\, Spain
END:VEVENT
BEGIN:VEVENT
DTSTART;TZID=UTC:20220516T213000
DTEND;TZID=UTC:20220516T233000
DTSTAMP:20260420T125656
CREATED:20220413T091142Z
LAST-MODIFIED:20220504T132500Z
UID:3274-1652736600-1652743800@christaelmer.com
SUMMARY:Chicken Sisters
DESCRIPTION:
URL:https://christaelmer.com/event/chicken-sisters-20/
LOCATION:Bei Hermine Paguera\, Carrer Eucaliptus 12\, Paguera\, Baleares\, 07160\, Spain
END:VEVENT
BEGIN:VEVENT
DTSTART;TZID=UTC:20220522T210000
DTEND;TZID=UTC:20220522T223000
DTSTAMP:20260420T125656
CREATED:20220413T091610Z
LAST-MODIFIED:20220413T091610Z
UID:3284-1653253200-1653258600@christaelmer.com
SUMMARY:The Monkey Swingers
DESCRIPTION:
URL:https://christaelmer.com/event/the-monkey-swingers-70/
LOCATION:Secrets Mallorca Villamil Resort & Spa\, Bulevar de Paguera 66\, Paguera\, Baleares\, 07160\, Spain
ATTACH;FMTTYPE=image/jpeg:https://christaelmer.com/wp-content/uploads/2022/01/21-DSC_9768.jpg
END:VEVENT
BEGIN:VEVENT
DTSTART;TZID=UTC:20220523T213000
DTEND;TZID=UTC:20220523T233000
DTSTAMP:20260420T125656
CREATED:20220413T091237Z
LAST-MODIFIED:20220504T132428Z
UID:3276-1653341400-1653348600@christaelmer.com
SUMMARY:Chicken Sisters
DESCRIPTION:
URL:https://christaelmer.com/event/chicken-sisters-21/
LOCATION:Bei Hermine Paguera\, Carrer Eucaliptus 12\, Paguera\, Baleares\, 07160\, Spain
END:VEVENT
BEGIN:VEVENT
DTSTART;TZID=UTC:20220530T213000
DTEND;TZID=UTC:20220530T233000
DTSTAMP:20260420T125656
CREATED:20220413T091330Z
LAST-MODIFIED:20220504T132353Z
UID:3278-1653946200-1653953400@christaelmer.com
SUMMARY:Chicken Sisters
DESCRIPTION:
URL:https://christaelmer.com/event/chicken-sisters-22/
LOCATION:Bei Hermine Paguera\, Carrer Eucaliptus 12\, Paguera\, Baleares\, 07160\, Spain
END:VEVENT
END:VCALENDAR