BEGIN:VCALENDAR
VERSION:2.0
PRODID:-//Christa Elmer - ECPv6.0.1.1//NONSGML v1.0//EN
CALSCALE:GREGORIAN
METHOD:PUBLISH
X-ORIGINAL-URL:https://christaelmer.com
X-WR-CALDESC:Events for Christa Elmer
REFRESH-INTERVAL;VALUE=DURATION:PT1H
X-Robots-Tag:noindex
X-PUBLISHED-TTL:PT1H
BEGIN:VTIMEZONE
TZID:UTC
BEGIN:STANDARD
TZOFFSETFROM:+0000
TZOFFSETTO:+0000
TZNAME:UTC
DTSTART:20220101T000000
END:STANDARD
END:VTIMEZONE
BEGIN:VEVENT
DTSTART;TZID=UTC:20220605T210000
DTEND;TZID=UTC:20220605T223000
DTSTAMP:20260420T113423
CREATED:20220524T204345Z
LAST-MODIFIED:20220524T204345Z
UID:3295-1654462800-1654468200@christaelmer.com
SUMMARY:The Monkey Swingers
DESCRIPTION:
URL:https://christaelmer.com/event/the-monkey-swingers-71/
LOCATION:Secrets Mallorca Villamil Resort & Spa\, Bulevar de Paguera 66\, Paguera\, Baleares\, 07160\, Spain
ATTACH;FMTTYPE=image/jpeg:https://christaelmer.com/wp-content/uploads/2022/01/21-DSC_9768.jpg
END:VEVENT
BEGIN:VEVENT
DTSTART;TZID=UTC:20220606T213000
DTEND;TZID=UTC:20220606T233000
DTSTAMP:20260420T113423
CREATED:20220524T205509Z
LAST-MODIFIED:20220606T150857Z
UID:3311-1654551000-1654558200@christaelmer.com
SUMMARY:Chicken Sisters
DESCRIPTION:
URL:https://christaelmer.com/event/chicken-sisters-23/
LOCATION:Bei Hermine Paguera\, Carrer Eucaliptus 12\, Paguera\, Baleares\, 07160\, Spain
END:VEVENT
BEGIN:VEVENT
DTSTART;TZID=UTC:20220613T213000
DTEND;TZID=UTC:20220613T233000
DTSTAMP:20260420T113423
CREATED:20220524T205558Z
LAST-MODIFIED:20220606T150942Z
UID:3313-1655155800-1655163000@christaelmer.com
SUMMARY:Chicken Sisters
DESCRIPTION:
URL:https://christaelmer.com/event/chicken-sisters-24/
LOCATION:Bei Hermine Paguera\, Carrer Eucaliptus 12\, Paguera\, Baleares\, 07160\, Spain
END:VEVENT
BEGIN:VEVENT
DTSTART;TZID=UTC:20220614T213000
DTEND;TZID=UTC:20220614T233000
DTSTAMP:20260420T113423
CREATED:20220606T150552Z
LAST-MODIFIED:20220606T150552Z
UID:3322-1655242200-1655249400@christaelmer.com
SUMMARY:Chicken Sisters live
DESCRIPTION:
URL:https://christaelmer.com/event/chicken-sisters-live/
LOCATION:Irish Rover\, Square Santa Ponsa\, Santa Ponsa\, Baleares\, 07180\, Spain
END:VEVENT
BEGIN:VEVENT
DTSTART;TZID=UTC:20220618T120000
DTEND;TZID=UTC:20220618T130000
DTSTAMP:20260420T113423
CREATED:20220524T204823Z
LAST-MODIFIED:20220524T205415Z
UID:3301-1655553600-1655557200@christaelmer.com
SUMMARY:The Monkey Swingers - día de la música - ayuntamiento de Palma
DESCRIPTION:
URL:https://christaelmer.com/event/the-monkey-swingers-74/
LOCATION:Puig de Sant Pere Plaza de Porta Santa Catalina\, Plaza de la Porta de Santa Catalina\, Palma de Mallorca\, Baleares\, 07012\, Spain
ATTACH;FMTTYPE=image/jpeg:https://christaelmer.com/wp-content/uploads/2022/01/IMG-20181017-WA0006.jpg
END:VEVENT
BEGIN:VEVENT
DTSTART;TZID=UTC:20220619T210000
DTEND;TZID=UTC:20220619T223000
DTSTAMP:20260420T113423
CREATED:20220524T204443Z
LAST-MODIFIED:20220524T204443Z
UID:3297-1655672400-1655677800@christaelmer.com
SUMMARY:The Monkey Swingers
DESCRIPTION:
URL:https://christaelmer.com/event/the-monkey-swingers-72/
LOCATION:Secrets Mallorca Villamil Resort & Spa\, Bulevar de Paguera 66\, Paguera\, Baleares\, 07160\, Spain
ATTACH;FMTTYPE=image/jpeg:https://christaelmer.com/wp-content/uploads/2022/01/21-DSC_9768.jpg
END:VEVENT
BEGIN:VEVENT
DTSTART;TZID=UTC:20220621T213000
DTEND;TZID=UTC:20220621T233000
DTSTAMP:20260420T113423
CREATED:20220606T150656Z
LAST-MODIFIED:20220606T150656Z
UID:3328-1655847000-1655854200@christaelmer.com
SUMMARY:Chicken Sisters live
DESCRIPTION:
URL:https://christaelmer.com/event/chicken-sisters-live-2/
LOCATION:Irish Rover\, Square Santa Ponsa\, Santa Ponsa\, Baleares\, 07180\, Spain
END:VEVENT
BEGIN:VEVENT
DTSTART;TZID=UTC:20220624T203000
DTEND;TZID=UTC:20220624T213000
DTSTAMP:20260420T113423
CREATED:20220524T205324Z
LAST-MODIFIED:20220524T205324Z
UID:3304-1656102600-1656106200@christaelmer.com
SUMMARY:Chicken Sisters - día de la música - ayuntamiento de Calvia
DESCRIPTION:
URL:https://christaelmer.com/event/chicken-sisters-dia-de-la-musica-ayuntamiento-de-calvia/
LOCATION:Plaza de la Iglesia de Calvia\, Plaza de la Iglesia de Calvia\, Calvia\, Baleares\, 07184\, Spain
END:VEVENT
BEGIN:VEVENT
DTSTART;TZID=UTC:20220628T213000
DTEND;TZID=UTC:20220628T233000
DTSTAMP:20260420T113423
CREATED:20220606T150743Z
LAST-MODIFIED:20220606T150743Z
UID:3330-1656451800-1656459000@christaelmer.com
SUMMARY:Chicken Sisters live
DESCRIPTION:
URL:https://christaelmer.com/event/chicken-sisters-live-3/
LOCATION:Irish Rover\, Square Santa Ponsa\, Santa Ponsa\, Baleares\, 07180\, Spain
END:VEVENT
END:VCALENDAR