BEGIN:VCALENDAR
VERSION:2.0
PRODID:-//Christa Elmer - ECPv6.0.1.1//NONSGML v1.0//EN
CALSCALE:GREGORIAN
METHOD:PUBLISH
X-WR-CALNAME:Christa Elmer
X-ORIGINAL-URL:https://christaelmer.com
X-WR-CALDESC:Events for Christa Elmer
REFRESH-INTERVAL;VALUE=DURATION:PT1H
X-Robots-Tag:noindex
X-PUBLISHED-TTL:PT1H
BEGIN:VTIMEZONE
TZID:UTC
BEGIN:STANDARD
TZOFFSETFROM:+0000
TZOFFSETTO:+0000
TZNAME:UTC
DTSTART:20240101T000000
END:STANDARD
END:VTIMEZONE
BEGIN:VEVENT
DTSTART;TZID=UTC:20240225T123000
DTEND;TZID=UTC:20240225T133000
DTSTAMP:20260420T155250
CREATED:20240205T211536Z
LAST-MODIFIED:20240205T211536Z
UID:4506-1708864200-1708867800@christaelmer.com
SUMMARY:Swingbeats
DESCRIPTION:
URL:https://christaelmer.com/event/swingbeats-2/
LOCATION:Plaza Columna\, Plaza Columna\, Palma\, Baleares\, 07007\, Spain
ATTACH;FMTTYPE=image/jpeg:https://christaelmer.com/wp-content/uploads/2024/02/Swingbeats.jpg
END:VEVENT
END:VCALENDAR