BEGIN:VCALENDAR
VERSION:2.0
PRODID:-//Christa Elmer - ECPv6.0.1.1//NONSGML v1.0//EN
CALSCALE:GREGORIAN
METHOD:PUBLISH
X-WR-CALNAME:Christa Elmer
X-ORIGINAL-URL:https://christaelmer.com
X-WR-CALDESC:Events for Christa Elmer
REFRESH-INTERVAL;VALUE=DURATION:PT1H
X-Robots-Tag:noindex
X-PUBLISHED-TTL:PT1H
BEGIN:VTIMEZONE
TZID:UTC
BEGIN:STANDARD
TZOFFSETFROM:+0000
TZOFFSETTO:+0000
TZNAME:UTC
DTSTART:20250101T000000
END:STANDARD
END:VTIMEZONE
BEGIN:VEVENT
DTSTART;TZID=UTC:20250307T193000
DTEND;TZID=UTC:20250307T213000
DTSTAMP:20260423T084558
CREATED:20250301T120408Z
LAST-MODIFIED:20250301T120408Z
UID:5117-1741375800-1741383000@christaelmer.com
SUMMARY:Christa Elmer Soul Trio
DESCRIPTION:
URL:https://christaelmer.com/event/christa-elmer-soul-trio/
LOCATION:Café Soller\, Plaza de sa Constitucio 13\, Soller\, Baleares\, 07100
ATTACH;FMTTYPE=image/jpeg:https://christaelmer.com/wp-content/uploads/2023/11/party-dance-music.jpg
END:VEVENT
BEGIN:VEVENT
DTSTART;TZID=UTC:20250309T130000
DTEND;TZID=UTC:20250309T143000
DTSTAMP:20260423T084558
CREATED:20250301T120640Z
LAST-MODIFIED:20250301T120640Z
UID:5121-1741525200-1741530600@christaelmer.com
SUMMARY:Swing Jazz Trio
DESCRIPTION:
URL:https://christaelmer.com/event/swing-jazz-trio/
LOCATION:Son Bauló\, Camí de Son Bauló\, Lloret\, Baleares\, 07518\, Spain
ATTACH;FMTTYPE=image/jpeg:https://christaelmer.com/wp-content/uploads/2023/11/Swing-Jazz.jpg
END:VEVENT
BEGIN:VEVENT
DTSTART;TZID=UTC:20250328T193000
DTEND;TZID=UTC:20250328T213000
DTSTAMP:20260423T084558
CREATED:20250301T120534Z
LAST-MODIFIED:20250301T120534Z
UID:5119-1743190200-1743197400@christaelmer.com
SUMMARY:Christa Elmer Soul Trio
DESCRIPTION:
URL:https://christaelmer.com/event/christa-elmer-soul-trio-2/
LOCATION:Café Soller\, Plaza de sa Constitucio 13\, Soller\, Baleares\, 07100
ATTACH;FMTTYPE=image/jpeg:https://christaelmer.com/wp-content/uploads/2023/11/party-dance-music.jpg
END:VEVENT
BEGIN:VEVENT
DTSTART;TZID=UTC:20250330T123000
DTEND;TZID=UTC:20250330T133000
DTSTAMP:20260423T084558
CREATED:20250203T170139Z
LAST-MODIFIED:20250310T105654Z
UID:5103-1743337800-1743341400@christaelmer.com
SUMMARY:monthly Streetjazz Session - Swingbeats
DESCRIPTION:
URL:https://christaelmer.com/event/monthly-streetjazz-session-swingbeats-2/
LOCATION:Plaza Columna\, Plaza Columna\, Palma\, Baleares\, 07007\, Spain
ATTACH;FMTTYPE=image/jpeg:https://christaelmer.com/wp-content/uploads/2025/03/IMG_1901.jpg
END:VEVENT
END:VCALENDAR