BEGIN:VCALENDAR
VERSION:2.0
PRODID:-//Christa Elmer - ECPv6.0.1.1//NONSGML v1.0//EN
CALSCALE:GREGORIAN
METHOD:PUBLISH
X-WR-CALNAME:Christa Elmer
X-ORIGINAL-URL:https://christaelmer.com
X-WR-CALDESC:Events for Christa Elmer
REFRESH-INTERVAL;VALUE=DURATION:PT1H
X-Robots-Tag:noindex
X-PUBLISHED-TTL:PT1H
BEGIN:VTIMEZONE
TZID:UTC
BEGIN:STANDARD
TZOFFSETFROM:+0000
TZOFFSETTO:+0000
TZNAME:UTC
DTSTART:20250101T000000
END:STANDARD
END:VTIMEZONE
BEGIN:VEVENT
DTSTART;TZID=UTC:20250405T180000
DTEND;TZID=UTC:20250405T193000
DTSTAMP:20260421T162102
CREATED:20250310T105604Z
LAST-MODIFIED:20250310T105604Z
UID:5148-1743876000-1743881400@christaelmer.com
SUMMARY:monthly Streetjazz Session - Swingbeats
DESCRIPTION:
URL:https://christaelmer.com/event/monthly-streetjazz-session-swingbeats-4/
LOCATION:Anfiteatro Deia\, Deia\, Baleares\, 07179\, Spain
ATTACH;FMTTYPE=image/jpeg:https://christaelmer.com/wp-content/uploads/2025/03/IMG_1901.jpg
END:VEVENT
BEGIN:VEVENT
DTSTART;TZID=UTC:20250408T203000
DTEND;TZID=UTC:20250408T230000
DTSTAMP:20260421T162102
CREATED:20250303T123440Z
LAST-MODIFIED:20250310T105947Z
UID:5142-1744144200-1744153200@christaelmer.com
SUMMARY:Soul Jam @ Cats Music Jazz Club with guest singer Christa Elmer
DESCRIPTION:
URL:https://christaelmer.com/event/soul-jam-cats-music-jazz-club-with-guest-singer-christa-elmer/
LOCATION:Menorca
ATTACH;FMTTYPE=image/jpeg:https://christaelmer.com/wp-content/uploads/2025/03/FB_IMG_1704191802783.jpg
END:VEVENT
BEGIN:VEVENT
DTSTART;TZID=UTC:20250414T210000
DTEND;TZID=UTC:20250414T210000
DTSTAMP:20260421T162102
CREATED:20250310T104255Z
LAST-MODIFIED:20250310T104255Z
UID:5144-1744664400-1744664400@christaelmer.com
SUMMARY:Christa Elmer live @ Zeppelin
DESCRIPTION:
URL:https://christaelmer.com/event/christa-elmer-live-zeppelin/
LOCATION:Bar Zeppelin\, Carrer Galío 13\, Magaluf\, Baleares\, 07181\, Spain
ATTACH;FMTTYPE=image/jpeg:https://christaelmer.com/wp-content/uploads/2023/09/PICT0005.jpg
END:VEVENT
BEGIN:VEVENT
DTSTART;TZID=UTC:20250419T200000
DTEND;TZID=UTC:20250419T230000
DTSTAMP:20260421T162102
CREATED:20250310T172603Z
LAST-MODIFIED:20250310T172603Z
UID:5159-1745092800-1745103600@christaelmer.com
SUMMARY:Charleston night - dress code - exclusive party with live Swing Jazz Trio
DESCRIPTION:
URL:https://christaelmer.com/event/charleston-night-dress-code-exclusive-party-with-live-swing-jazz-trio/
LOCATION:1923 Botanik by Bloom\, Carrer de la Verge Maria 55\, Colonia San Pere\, Baleares\, 07579\, Spain
ATTACH;FMTTYPE=image/jpeg:https://christaelmer.com/wp-content/uploads/2025/03/Esteban_20160716_016-1.jpg
END:VEVENT
BEGIN:VEVENT
DTSTART;TZID=UTC:20250420T113000
DTEND;TZID=UTC:20250420T160000
DTSTAMP:20260421T162102
CREATED:20250401T114459Z
LAST-MODIFIED:20250401T114459Z
UID:5176-1745148600-1745164800@christaelmer.com
SUMMARY:Easter Wine Event with Christa Elmer duo live
DESCRIPTION:
URL:https://christaelmer.com/event/easter-wine-event-with-christa-elmer-duo-live/
LOCATION:Bodega Terra IóN\, Carretera Capdella km 4\, Andratx\, 07150\, Spain
ATTACH;FMTTYPE=image/jpeg:https://christaelmer.com/wp-content/uploads/2024/08/IMG-20240710-WA0049-1-e1733486774197.jpg
END:VEVENT
BEGIN:VEVENT
DTSTART;TZID=UTC:20250425T193000
DTEND;TZID=UTC:20250425T213000
DTSTAMP:20260421T162102
CREATED:20250401T113806Z
LAST-MODIFIED:20250407T150333Z
UID:5167-1745609400-1745616600@christaelmer.com
SUMMARY:HAPPY BAND
DESCRIPTION:
URL:https://christaelmer.com/event/christa-elmer-soul-trio-3/
LOCATION:Café Soller\, Plaza de sa Constitucio 13\, Soller\, Baleares\, 07100
ATTACH;FMTTYPE=image/jpeg:https://christaelmer.com/wp-content/uploads/2025/04/Christa_band__16-scaled.jpg
END:VEVENT
BEGIN:VEVENT
DTSTART;TZID=UTC:20250427T130000
DTEND;TZID=UTC:20250427T143000
DTSTAMP:20260421T162102
CREATED:20250401T114054Z
LAST-MODIFIED:20250407T150250Z
UID:5174-1745758800-1745764200@christaelmer.com
SUMMARY:HAPPY BAND
DESCRIPTION:
URL:https://christaelmer.com/event/christa-elmer-soul-trio-5/
LOCATION:Son Bauló\, Camí de Son Bauló\, Lloret\, Baleares\, 07518\, Spain
ATTACH;FMTTYPE=image/jpeg:https://christaelmer.com/wp-content/uploads/2025/04/Christa_band__12-scaled.jpg
END:VEVENT
BEGIN:VEVENT
DTSTART;TZID=UTC:20250428T180000
DTEND;TZID=UTC:20250428T200000
DTSTAMP:20260421T162102
CREATED:20250319T094424Z
LAST-MODIFIED:20250319T094424Z
UID:5163-1745863200-1745870400@christaelmer.com
SUMMARY:Wine tasting and Swing Jazz @ Bodega Conde de Suyrot
DESCRIPTION:
URL:https://christaelmer.com/event/wine-tasting-and-swing-jazz-bodega-conde-de-suyrot/
LOCATION:Bodega Conde de Suyrot\, Carretera de Betlem km 6\, Colonia de Sant Pere\, Baleares\, 07579
ATTACH;FMTTYPE=image/jpeg:https://christaelmer.com/wp-content/uploads/2023/08/IMG_7133-1-1-scaled.jpg
END:VEVENT
END:VCALENDAR