BEGIN:VCALENDAR
VERSION:2.0
PRODID:-//Christa Elmer - ECPv6.0.1.1//NONSGML v1.0//EN
CALSCALE:GREGORIAN
METHOD:PUBLISH
X-ORIGINAL-URL:https://christaelmer.com
X-WR-CALDESC:Events for Christa Elmer
REFRESH-INTERVAL;VALUE=DURATION:PT1H
X-Robots-Tag:noindex
X-PUBLISHED-TTL:PT1H
BEGIN:VTIMEZONE
TZID:UTC
BEGIN:STANDARD
TZOFFSETFROM:+0000
TZOFFSETTO:+0000
TZNAME:UTC
DTSTART:20250101T000000
END:STANDARD
END:VTIMEZONE
BEGIN:VEVENT
DTSTART;TZID=UTC:20250602T220000
DTEND;TZID=UTC:20250602T233000
DTSTAMP:20260421T113845
CREATED:20250505T175921Z
LAST-MODIFIED:20250505T175921Z
UID:5287-1748901600-1748907000@christaelmer.com
SUMMARY:Christa Elmer live @ Zeppelin
DESCRIPTION:
URL:https://christaelmer.com/event/christa-elmer-live-zeppelin-5/
LOCATION:Bar Zeppelin\, Carrer Galío 13\, Magaluf\, Baleares\, 07181\, Spain
ATTACH;FMTTYPE=image/jpeg:https://christaelmer.com/wp-content/uploads/2025/05/IMG-20250429-WA0041.jpg
END:VEVENT
BEGIN:VEVENT
DTSTART;TZID=UTC:20250603T193000
DTEND;TZID=UTC:20250603T210000
DTSTAMP:20260421T113845
CREATED:20250505T180242Z
LAST-MODIFIED:20250524T214210Z
UID:5293-1748979000-1748984400@christaelmer.com
SUMMARY:Winetasting - Sunset & Jazz
DESCRIPTION:
URL:https://christaelmer.com/event/winetasting-sunset-jazz/
LOCATION:Bodega Conde de Suyrot\, Carretera de Betlem km 6\, Colonia de Sant Pere\, Baleares\, 07579
ATTACH;FMTTYPE=image/jpeg:https://christaelmer.com/wp-content/uploads/2024/05/IMG-20240418-WA0001.jpg
END:VEVENT
BEGIN:VEVENT
DTSTART;TZID=UTC:20250605T200000
DTEND;TZID=UTC:20250605T220000
DTSTAMP:20260421T113845
CREATED:20250524T085707Z
LAST-MODIFIED:20250604T215322Z
UID:5312-1749153600-1749160800@christaelmer.com
SUMMARY:Soul Duo
DESCRIPTION:
URL:https://christaelmer.com/event/soul-duo-4/
LOCATION:Donna Brigida\, Passeig Mar 2\, Palmanova\, Baleares\, 07181\, Spain
ATTACH;FMTTYPE=image/jpeg:https://christaelmer.com/wp-content/uploads/2025/05/cartel.jpg
END:VEVENT
BEGIN:VEVENT
DTSTART;TZID=UTC:20250607T190000
DTEND;TZID=UTC:20250607T210000
DTSTAMP:20260421T113845
CREATED:20250505T180506Z
LAST-MODIFIED:20250505T180506Z
UID:5295-1749322800-1749330000@christaelmer.com
SUMMARY:Happy Band @ Secret Fince near Soller / tickets and bookings 650 66 19 63
DESCRIPTION:
URL:https://christaelmer.com/event/happy-band-secret-fince-near-soller-tickets-and-bookings-650-66-19-63/
LOCATION:Menorca
ATTACH;FMTTYPE=image/jpeg:https://christaelmer.com/wp-content/uploads/2025/04/Christa_band__12-scaled.jpg
END:VEVENT
BEGIN:VEVENT
DTSTART;TZID=UTC:20250608T110000
DTEND;TZID=UTC:20250608T120000
DTSTAMP:20260421T113845
CREATED:20250310T112209Z
LAST-MODIFIED:20250529T095156Z
UID:5157-1749380400-1749384000@christaelmer.com
SUMMARY:monthly Streetjazz Session - Swingbeats
DESCRIPTION:
URL:https://christaelmer.com/event/monthly-streetjazz-session-swingbeats-5/
LOCATION:Plaza Columna\, Plaza Columna\, Palma\, Baleares\, 07007\, Spain
ATTACH;FMTTYPE=image/jpeg:https://christaelmer.com/wp-content/uploads/2025/03/IMG_1901.jpg
END:VEVENT
BEGIN:VEVENT
DTSTART;TZID=UTC:20250610T193000
DTEND;TZID=UTC:20250610T213000
DTSTAMP:20260421T113845
CREATED:20250524T091303Z
LAST-MODIFIED:20250524T091303Z
UID:5320-1749583800-1749591000@christaelmer.com
SUMMARY:Winetasting & Jazz
DESCRIPTION:
URL:https://christaelmer.com/event/winetasting-jazz/
LOCATION:Bodega Conde de Suyrot\, Carretera de Betlem km 6\, Colonia de Sant Pere\, Baleares\, 07579
ATTACH;FMTTYPE=image/jpeg:https://christaelmer.com/wp-content/uploads/2025/05/Screenshot_20250522_164250_All-Document-Reader.jpg
END:VEVENT
BEGIN:VEVENT
DTSTART;TZID=UTC:20250612T200000
DTEND;TZID=UTC:20250612T220000
DTSTAMP:20260421T113845
CREATED:20250524T085852Z
LAST-MODIFIED:20250527T140747Z
UID:5314-1749758400-1749765600@christaelmer.com
SUMMARY:Soul Duo
DESCRIPTION:
URL:https://christaelmer.com/event/soul-duo-5/
LOCATION:Donna Brigida\, Passeig Mar 2\, Palmanova\, Baleares\, 07181\, Spain
ATTACH;FMTTYPE=image/jpeg:https://christaelmer.com/wp-content/uploads/2025/05/IMG-20250526-WA0054.jpg
END:VEVENT
BEGIN:VEVENT
DTSTART;TZID=UTC:20250617T193000
DTEND;TZID=UTC:20250617T213000
DTSTAMP:20260421T113845
CREATED:20250524T091359Z
LAST-MODIFIED:20250524T091359Z
UID:5323-1750188600-1750195800@christaelmer.com
SUMMARY:Winetasting & Jazz
DESCRIPTION:
URL:https://christaelmer.com/event/winetasting-jazz-2/
LOCATION:Bodega Conde de Suyrot\, Carretera de Betlem km 6\, Colonia de Sant Pere\, Baleares\, 07579
ATTACH;FMTTYPE=image/jpeg:https://christaelmer.com/wp-content/uploads/2025/05/Screenshot_20250522_164250_All-Document-Reader.jpg
END:VEVENT
BEGIN:VEVENT
DTSTART;TZID=UTC:20250619T200000
DTEND;TZID=UTC:20250619T220000
DTSTAMP:20260421T113845
CREATED:20250524T090013Z
LAST-MODIFIED:20250524T090013Z
UID:5316-1750363200-1750370400@christaelmer.com
SUMMARY:Soul Duo
DESCRIPTION:
URL:https://christaelmer.com/event/soul-duo-6/
LOCATION:Donna Brigida\, Passeig Mar 2\, Palmanova\, Baleares\, 07181\, Spain
ATTACH;FMTTYPE=image/jpeg:https://christaelmer.com/wp-content/uploads/2025/05/cartel.jpg
END:VEVENT
BEGIN:VEVENT
DTSTART;TZID=UTC:20250624T193000
DTEND;TZID=UTC:20250624T213000
DTSTAMP:20260421T113845
CREATED:20250524T091441Z
LAST-MODIFIED:20250524T091441Z
UID:5325-1750793400-1750800600@christaelmer.com
SUMMARY:Winetasting & Jazz
DESCRIPTION:
URL:https://christaelmer.com/event/winetasting-jazz-3/
LOCATION:Bodega Conde de Suyrot\, Carretera de Betlem km 6\, Colonia de Sant Pere\, Baleares\, 07579
ATTACH;FMTTYPE=image/jpeg:https://christaelmer.com/wp-content/uploads/2025/05/Screenshot_20250522_164250_All-Document-Reader.jpg
END:VEVENT
BEGIN:VEVENT
DTSTART;TZID=UTC:20250626T200000
DTEND;TZID=UTC:20250626T220000
DTSTAMP:20260421T113845
CREATED:20250407T150627Z
LAST-MODIFIED:20250407T150627Z
UID:5193-1750968000-1750975200@christaelmer.com
SUMMARY:HAPPY BAND
DESCRIPTION:
URL:https://christaelmer.com/event/happy-band/
LOCATION:Bananas Son Bauló\, Carrer Marina 48\, Can Picafort\, Baleares\, 07458\, Spain
ATTACH;FMTTYPE=image/jpeg:https://christaelmer.com/wp-content/uploads/2025/04/Christa_band__16-scaled.jpg
END:VEVENT
END:VCALENDAR